BEGIN:VCALENDAR
VERSION:2.0
PRODID:-//sCynergy - ECPv6.15.20//NONSGML v1.0//EN
CALSCALE:GREGORIAN
METHOD:PUBLISH
X-WR-CALNAME:sCynergy
X-ORIGINAL-URL:https://scynergy.co.uk
X-WR-CALDESC:Events for sCynergy
REFRESH-INTERVAL;VALUE=DURATION:PT1H
X-Robots-Tag:noindex
X-PUBLISHED-TTL:PT1H
BEGIN:VTIMEZONE
TZID:Europe/London
BEGIN:DAYLIGHT
TZOFFSETFROM:+0000
TZOFFSETTO:+0100
TZNAME:BST
DTSTART:20190331T010000
END:DAYLIGHT
BEGIN:STANDARD
TZOFFSETFROM:+0100
TZOFFSETTO:+0000
TZNAME:GMT
DTSTART:20191027T010000
END:STANDARD
BEGIN:DAYLIGHT
TZOFFSETFROM:+0000
TZOFFSETTO:+0100
TZNAME:BST
DTSTART:20200329T010000
END:DAYLIGHT
BEGIN:STANDARD
TZOFFSETFROM:+0100
TZOFFSETTO:+0000
TZNAME:GMT
DTSTART:20201025T010000
END:STANDARD
BEGIN:DAYLIGHT
TZOFFSETFROM:+0000
TZOFFSETTO:+0100
TZNAME:BST
DTSTART:20210328T010000
END:DAYLIGHT
BEGIN:STANDARD
TZOFFSETFROM:+0100
TZOFFSETTO:+0000
TZNAME:GMT
DTSTART:20211031T010000
END:STANDARD
BEGIN:DAYLIGHT
TZOFFSETFROM:+0000
TZOFFSETTO:+0100
TZNAME:BST
DTSTART:20220327T010000
END:DAYLIGHT
BEGIN:STANDARD
TZOFFSETFROM:+0100
TZOFFSETTO:+0000
TZNAME:GMT
DTSTART:20221030T010000
END:STANDARD
END:VTIMEZONE
BEGIN:VEVENT
DTSTART;TZID=Europe/London:20211016T090000
DTEND;TZID=Europe/London:20211017T160000
DTSTAMP:20260425T145517
CREATED:20210412T134644Z
LAST-MODIFIED:20210412T134644Z
UID:806-1634374800-1634486400@scynergy.co.uk
SUMMARY:16-17 Oct 2021 Well-Being Weekend
DESCRIPTION:This weekend’s workshop (adapted for Covid regulations in Wales!) will combine: \n\nWoodland Mindfulness on Saturday with a\nWalk in the local area on Sunday.\n\nOur Back to Basics Well-Being Weekends combine Woodland Mindfulness; Personalised Coaching; and Outdoor Living and Adventure. These two-day workshops create a breathing space to pause and rest; to learn how to de-stress through meditation and mindfulness; to reflect on what you want in life and to review your life goals; to consider whether you are achieving them and what could stop you; and to enable you to raise your self-awareness and grow into the person you really want to be. \nTo book your place\, please read our Terms & Conditions and the Workshop Details\, then ‘get tickets’ via PayPal using the button below (or\, if you are unable to use PayPal\, please contact us for payment options and a booking form).
URL:https://scynergy.co.uk/event/16-17-oct-2021-well-being-weekend
LOCATION:Bryn Bolgoed\, Libanus\, Brecon\, Powys\, LD3 8EP\, United Kingdom
CATEGORIES:Wellbeing Weekends
ATTACH;FMTTYPE=image/jpeg:https://scynergy.co.uk/wp-content/uploads/2020/02/woodland-Light.jpg
ORGANIZER;CN="Christina Rayner":MAILTO:chris@backtobasics.wales
END:VEVENT
BEGIN:VEVENT
DTSTART;TZID=Europe/London:20210918T090000
DTEND;TZID=Europe/London:20210919T160000
DTSTAMP:20260425T145517
CREATED:20210412T134404Z
LAST-MODIFIED:20210412T134404Z
UID:802-1631955600-1632067200@scynergy.co.uk
SUMMARY:18-19 Sep 2021 Well-Being Weekend
DESCRIPTION:This weekend’s workshop (adapted for Covid regulations in Wales!) will combine: \n\nWoodland Mindfulness on Saturday with a\nWalk in the local area on Sunday.\n\nOur Back to Basics Well-Being Weekends combine Woodland Mindfulness; Personalised Coaching; and Outdoor Living and Adventure. These two-day workshops create a breathing space to pause and rest; to learn how to de-stress through meditation and mindfulness; to reflect on what you want in life and to review your life goals; to consider whether you are achieving them and what could stop you; and to enable you to raise your self-awareness and grow into the person you really want to be. \nTo book your place\, please read our Terms & Conditions and the Workshop Details\, then ‘get tickets’ via PayPal using the button below (or\, if you are unable to use PayPal\, please contact us for payment options and a booking form).
URL:https://scynergy.co.uk/event/18-19-sep-2021-well-being-weekend
LOCATION:Bryn Bolgoed\, Libanus\, Brecon\, Powys\, LD3 8EP\, United Kingdom
CATEGORIES:Wellbeing Weekends
ATTACH;FMTTYPE=image/jpeg:https://scynergy.co.uk/wp-content/uploads/2020/02/woodland-Light.jpg
ORGANIZER;CN="Christina Rayner":MAILTO:chris@backtobasics.wales
END:VEVENT
BEGIN:VEVENT
DTSTART;TZID=Europe/London:20210814T090000
DTEND;TZID=Europe/London:20210815T160000
DTSTAMP:20260425T145517
CREATED:20210412T134229Z
LAST-MODIFIED:20210412T134229Z
UID:798-1628931600-1629043200@scynergy.co.uk
SUMMARY:14-15 Aug 2021 Well-Being Weekend
DESCRIPTION:This weekend’s workshop (adapted for Covid regulations in Wales!) will combine: \n\nWoodland Mindfulness on Saturday with a\nWalk in the local area on Sunday.\n\nOur Back to Basics Well-Being Weekends combine Woodland Mindfulness; Personalised Coaching; and Outdoor Living and Adventure. These two-day workshops create a breathing space to pause and rest; to learn how to de-stress through meditation and mindfulness; to reflect on what you want in life and to review your life goals; to consider whether you are achieving them and what could stop you; and to enable you to raise your self-awareness and grow into the person you really want to be. \nTo book your place\, please read our Terms & Conditions and the Workshop Details\, then ‘get tickets’ via PayPal using the button below (or\, if you are unable to use PayPal\, please contact us for payment options and a booking form).
URL:https://scynergy.co.uk/event/14-15-aug-2021-well-being-weekend
LOCATION:Bryn Bolgoed\, Libanus\, Brecon\, Powys\, LD3 8EP\, United Kingdom
CATEGORIES:Wellbeing Weekends
ATTACH;FMTTYPE=image/jpeg:https://scynergy.co.uk/wp-content/uploads/2020/02/woodland-Light.jpg
ORGANIZER;CN="Christina Rayner":MAILTO:chris@backtobasics.wales
END:VEVENT
BEGIN:VEVENT
DTSTART;TZID=Europe/London:20210515T090000
DTEND;TZID=Europe/London:20210516T160000
DTSTAMP:20260425T145517
CREATED:20210412T130934Z
LAST-MODIFIED:20210412T133358Z
UID:779-1621069200-1621180800@scynergy.co.uk
SUMMARY:15-16 May 2021 Well-Being Weekend
DESCRIPTION:This weekend’s workshop (adapted for Covid regulations in Wales!) will combine: \n\nWoodland Mindfulness on Saturday with a\nWalk in the local area on Sunday.\n\nOur Back to Basics Well-Being Weekends combine Woodland Mindfulness; Personalised Coaching; and Outdoor Living and Adventure. These two-day workshops create a breathing space to pause and rest; to learn how to de-stress through meditation and mindfulness; to reflect on what you want in life and to review your life goals; to consider whether you are achieving them and what could stop you; and to enable you to raise your self-awareness and grow into the person you really want to be. \nTo book your place\, please read our Terms & Conditions and the Workshop Details\, then ‘get tickets’ via PayPal using the button below (or\, if you are unable to use PayPal\, please contact us for payment options and a booking form).
URL:https://scynergy.co.uk/event/15-16-may-2021-well-being-weekend
LOCATION:Bryn Bolgoed\, Libanus\, Brecon\, Powys\, LD3 8EP\, United Kingdom
CATEGORIES:Wellbeing Weekends
ATTACH;FMTTYPE=image/jpeg:https://scynergy.co.uk/wp-content/uploads/2020/02/woodland-Light.jpg
ORGANIZER;CN="Christina Rayner":MAILTO:chris@backtobasics.wales
END:VEVENT
BEGIN:VEVENT
DTSTART;TZID=Europe/London:20201010T090000
DTEND;TZID=Europe/London:20201011T160000
DTSTAMP:20260425T145517
CREATED:20200304T193837Z
LAST-MODIFIED:20200902T072835Z
UID:324-1602320400-1602432000@scynergy.co.uk
SUMMARY:10-11 October 2020 Well-Being Weekend
DESCRIPTION:This weekend’s workshop (adapted for Covid regulations in Wales!) will combine: \n\nWoodland Mindfulness on Saturday with a\nWalk in the local area on Sunday.\n\nOur Back to Basics Well-Being Weekends combine Woodland Mindfulness; Personalised Coaching; and Outdoor Living and Adventure. These two-day workshops create a breathing space to pause and rest; to learn how to de-stress through meditation and mindfulness; to reflect on what you want in life and to review your life goals; to consider whether you are achieving them and what could stop you; and to enable you to raise your self-awareness and grow into the person you really want to be. \nTo book your place\, please read our Terms & Conditions and the Workshop Details\, then ‘get tickets’ via PayPal using the button below (or\, if you are unable to use PayPal\, please contact us for payment options and a booking form).
URL:https://scynergy.co.uk/event/10-11-october-2020-back-to-basics-weekend
LOCATION:Bryn Bolgoed\, Libanus\, Brecon\, Powys\, LD3 8EP\, United Kingdom
CATEGORIES:Wellbeing Weekends
ATTACH;FMTTYPE=image/jpeg:https://scynergy.co.uk/wp-content/uploads/2020/02/woodland-Light.jpg
ORGANIZER;CN="Christina Rayner":MAILTO:chris@backtobasics.wales
END:VEVENT
BEGIN:VEVENT
DTSTART;TZID=Europe/London:20200926T090000
DTEND;TZID=Europe/London:20200927T160000
DTSTAMP:20260425T145517
CREATED:20200803T120346Z
LAST-MODIFIED:20200902T073315Z
UID:537-1601110800-1601222400@scynergy.co.uk
SUMMARY:26-27 September 2020 Well-Being Weekend
DESCRIPTION:This weekend’s workshop (adapted for Covid regulations in Wales!) will combine: \n\nWoodland Mindfulness on Saturday with a\nWalk in the local area on Sunday.\n\nOur Back to Basics Well-Being Weekends combine Woodland Mindfulness; Personalised Coaching; and Outdoor Living and Adventure. These two-day workshops create a breathing space to pause and rest; to learn how to de-stress through meditation and mindfulness; to reflect on what you want in life and to review your life goals; to consider whether you are achieving them and what could stop you; and to enable you to raise your self-awareness and grow into the person you really want to be. \nTo book your place\, please read our Terms & Conditions and the Workshop Details\, then ‘get tickets’ via PayPal using the button below (or\, if you are unable to use PayPal\, please contact us for payment options and a booking form).
URL:https://scynergy.co.uk/event/26-27-september-2020-back-to-basics-weekend
LOCATION:Bryn Bolgoed\, Libanus\, Brecon\, Powys\, LD3 8EP\, United Kingdom
CATEGORIES:Wellbeing Weekends
ATTACH;FMTTYPE=image/jpeg:https://scynergy.co.uk/wp-content/uploads/2020/02/woodland-Light.jpg
ORGANIZER;CN="Christina Rayner":MAILTO:chris@backtobasics.wales
END:VEVENT
BEGIN:VEVENT
DTSTART;TZID=Europe/London:20200912T090000
DTEND;TZID=Europe/London:20200913T160000
DTSTAMP:20260425T145517
CREATED:20200304T193539Z
LAST-MODIFIED:20200902T073415Z
UID:322-1599901200-1600012800@scynergy.co.uk
SUMMARY:12-13 September 2020 Well-Being Weekend
DESCRIPTION:This weekend’s workshop (adapted for Covid regulations in Wales!) will combine: \n\nWoodland Mindfulness on Saturday with a\nWalk in the local area on Sunday.\n\nOur Back to Basics Well-Being Weekends combine Woodland Mindfulness; Personalised Coaching; and Outdoor Living and Adventure. These two-day workshops create a breathing space to pause and rest; to learn how to de-stress through meditation and mindfulness; to reflect on what you want in life and to review your life goals; to consider whether you are achieving them and what could stop you; and to enable you to raise your self-awareness and grow into the person you really want to be. \nTo book your place\, please read our Terms & Conditions and the Workshop Details\, then ‘get tickets’ via PayPal using the button below (or\, if you are unable to use PayPal\, please contact us for payment options and a booking form).
URL:https://scynergy.co.uk/event/12-13-september-2020-back-to-basics-weekend
LOCATION:Bryn Bolgoed\, Libanus\, Brecon\, Powys\, LD3 8EP\, United Kingdom
CATEGORIES:Wellbeing Weekends
ATTACH;FMTTYPE=image/jpeg:https://scynergy.co.uk/wp-content/uploads/2020/02/woodland-Light.jpg
ORGANIZER;CN="Christina Rayner":MAILTO:chris@backtobasics.wales
END:VEVENT
BEGIN:VEVENT
DTSTART;TZID=Europe/London:20200822T090000
DTEND;TZID=Europe/London:20200822T170000
DTSTAMP:20260425T145517
CREATED:20200813T104147Z
LAST-MODIFIED:20200901T091201Z
UID:557-1598086800-1598115600@scynergy.co.uk
SUMMARY:22 August 2020 Well-Being Taster Workshop
DESCRIPTION:This one-day ‘taster’ workshop is an invitation-only event as we prepare to launch our Covid-friendly Back to Basics Well-Being weekends. \nThis workshop will combine Woodland Mindfulness; Personalised Coaching; and Outdoor Living. It will create a breathing space to pause and rest; to learn how to de-stress through meditation and mindfulness; to reflect on what you want in life and to review your life goals; to consider whether you are achieving them and what could stop you; and to enable you to raise your self-awareness and grow into the person you really want to be. \nIf you have received an invitation to this workshop\, please ‘RSVP’ using the button below to confirm your attendance and provide us with the information we need to support you on the day. \n\nWell-Being Weekends Detail (ignore all reference to accommodation and to Day 2 activity!)\nWell-Being Workshops Terms & Conditions
URL:https://scynergy.co.uk/event/22-august-2020-well-being-taster-workshop
LOCATION:Bryn Bolgoed\, Libanus\, Brecon\, Powys\, LD3 8EP\, United Kingdom
CATEGORIES:Wellbeing Weekends
ATTACH;FMTTYPE=image/jpeg:https://scynergy.co.uk/wp-content/uploads/2020/08/Canopy-scaled.jpg
ORGANIZER;CN="Christina Rayner":MAILTO:chris@backtobasics.wales
END:VEVENT
BEGIN:VEVENT
DTSTART;TZID=Europe/London:20200808T090000
DTEND;TZID=Europe/London:20200809T160000
DTSTAMP:20260425T145517
CREATED:20200304T193323Z
LAST-MODIFIED:20200720T152707Z
UID:316-1596877200-1596988800@scynergy.co.uk
SUMMARY:CANCELLED August 2020 Back to Basics Weekend (Sunday Walking Option)
DESCRIPTION:***Cancelled due to Covid-19 pandemic*** \nThis weekend’s workshop will combine: \n\nWoodland Mindfulness on Saturday with a\nWalk in the local area on Sunday (participants will decide whether to opt for either a low-level or mountain walk).\n\nOur Back to Basics weekends combine Woodland Mindfulness; Personalised Coaching; and Outdoor Living and Adventure. These two-day workshops create a breathing space to pause and rest; to learn how to de-stress through meditation and mindfulness; to reflect on what you want in life and to review your life goals; to consider whether you are achieving them and what could stop you; and to enable you to raise your self-awareness and grow into the person you really want to be. \nTo book your place\, please read our Terms & Conditions\, then ‘get tickets’ using the button below.
URL:https://scynergy.co.uk/event/august-2020-back-to-basics-weekend-sunday-walking-option
LOCATION:Bryn Bolgoed\, Libanus\, Brecon\, Powys\, LD3 8EP\, United Kingdom
CATEGORIES:Wellbeing Weekends
ATTACH;FMTTYPE=image/jpeg:https://scynergy.co.uk/wp-content/uploads/2020/02/woodland-Light.jpg
ORGANIZER;CN="Christina Rayner":MAILTO:chris@backtobasics.wales
END:VEVENT
BEGIN:VEVENT
DTSTART;TZID=Europe/London:20200718T090000
DTEND;TZID=Europe/London:20200719T160000
DTSTAMP:20260425T145517
CREATED:20200304T192957Z
LAST-MODIFIED:20200528T083627Z
UID:315-1595062800-1595174400@scynergy.co.uk
SUMMARY:CANCELLED July 2020 Back to Basics Weekend (Sunday Walking Option)
DESCRIPTION:***Cancelled due to Covid-19 pandemic*** \nThis weekend’s workshop will combine: \n\nWoodland Mindfulness on Saturday with a\nWalk in the local area on Sunday (participants will decide whether to opt for either a low-level or mountain walk).\n\nOur Back to Basics weekends combine Woodland Mindfulness; Personalised Coaching; and Outdoor Living and Adventure. These two-day workshops create a breathing space to pause and rest; to learn how to de-stress through meditation and mindfulness; to reflect on what you want in life and to review your life goals; to consider whether you are achieving them and what could stop you; and to enable you to raise your self-awareness and grow into the person you really want to be. \nTo book your place\, please read our Terms & Conditions\, then ‘get tickets’ using the button below.
URL:https://scynergy.co.uk/event/july-2020-back-to-basics-weekend-sunday-walking-option
LOCATION:Bryn Bolgoed\, Libanus\, Brecon\, Powys\, LD3 8EP\, United Kingdom
CATEGORIES:Wellbeing Weekends
ATTACH;FMTTYPE=image/jpeg:https://scynergy.co.uk/wp-content/uploads/2020/02/woodland-Light.jpg
ORGANIZER;CN="Christina Rayner":MAILTO:chris@backtobasics.wales
END:VEVENT
BEGIN:VEVENT
DTSTART;TZID=Europe/London:20200613T090000
DTEND;TZID=Europe/London:20200614T160000
DTSTAMP:20260425T145517
CREATED:20200304T192708Z
LAST-MODIFIED:20200528T083627Z
UID:314-1592038800-1592150400@scynergy.co.uk
SUMMARY:CANCELLED June 2020 Back to Basics Weekend (Sunday Walking Option)
DESCRIPTION:***Cancelled due to Covid-19 pandemic*** \nThis weekend’s workshop will combine: \n\nWoodland Mindfulness on Saturday with a\nWalk in the local area on Sunday (participants will decide whether to opt for either a low-level or mountain walk).\n\nOur Back to Basics weekends combine Woodland Mindfulness; Personalised Coaching; and Outdoor Living and Adventure. These two-day workshops create a breathing space to pause and rest; to learn how to de-stress through meditation and mindfulness; to reflect on what you want in life and to review your life goals; to consider whether you are achieving them and what could stop you; and to enable you to raise your self-awareness and grow into the person you really want to be. \nTo book your place\, please read our Terms & Conditions\, then ‘get tickets’ using the button below.
URL:https://scynergy.co.uk/event/june-2020-back-to-basics-weekend-sunday-walking-option
LOCATION:Bryn Bolgoed\, Libanus\, Brecon\, Powys\, LD3 8EP\, United Kingdom
CATEGORIES:Wellbeing Weekends
ATTACH;FMTTYPE=image/jpeg:https://scynergy.co.uk/wp-content/uploads/2020/02/woodland-Light.jpg
ORGANIZER;CN="Christina Rayner":MAILTO:chris@backtobasics.wales
END:VEVENT
BEGIN:VEVENT
DTSTART;TZID=Europe/London:20200516T090000
DTEND;TZID=Europe/London:20200517T160000
DTSTAMP:20260425T145517
CREATED:20200304T192532Z
LAST-MODIFIED:20200528T083627Z
UID:313-1589619600-1589731200@scynergy.co.uk
SUMMARY:CANCELLED May 2020 Back to Basics Weekend (Sunday Canoeing Option)
DESCRIPTION:***Cancelled due to Covid-19 pandemic*** \nThis weekend’s workshop will combine: \n\nWoodland Mindfulness on Saturday with a\nCanoe trip in the local area on Sunday (participants will decide whether to opt for either a canal\, river or lake trip).\n\nOur Back to Basics weekends combine Woodland Mindfulness; Personalised Coaching; and Outdoor Living and Adventure. These two-day workshops create a breathing space to pause and rest; to learn how to de-stress through meditation and mindfulness; to reflect on what you want in life and to review your life goals; to consider whether you are achieving them and what could stop you; and to enable you to raise your self-awareness and grow into the person you really want to be. \nTo book your place\, please read our Terms & Conditions\, then ‘get tickets’ using the button below.
URL:https://scynergy.co.uk/event/may-2020-back-to-basics-weekend-sunday-canoeing-option
LOCATION:Bryn Bolgoed\, Libanus\, Brecon\, Powys\, LD3 8EP\, United Kingdom
CATEGORIES:Wellbeing Weekends
ATTACH;FMTTYPE=image/jpeg:https://scynergy.co.uk/wp-content/uploads/2020/02/woodland-Light.jpg
ORGANIZER;CN="Christina Rayner":MAILTO:chris@backtobasics.wales
END:VEVENT
BEGIN:VEVENT
DTSTART;TZID=Europe/London:20200425T090000
DTEND;TZID=Europe/London:20200426T160000
DTSTAMP:20260425T145517
CREATED:20200211T202818Z
LAST-MODIFIED:20200528T083734Z
UID:307-1587805200-1587916800@scynergy.co.uk
SUMMARY:CANCELLED April 2020 Back to Basics Weekend (Sunday Walking Option)
DESCRIPTION:***Cancelled due to Covid-19 pandemic*** \nThis weekend’s workshop will combine: \n\nWoodland Mindfulness on Saturday with a\nWalk in the local area on Sunday (participants will decide whether to opt for either a low-level or mountain walk).\n\nOur Back to Basics weekends combine Woodland Mindfulness; Personalised Coaching; and Outdoor Living and Adventure. These two-day workshops create a breathing space to pause and rest; to learn how to de-stress through meditation and mindfulness; to reflect on what you want in life and to review your life goals; to consider whether you are achieving them and what could stop you; and to enable you to raise your self-awareness and grow into the person you really want to be. \nTo book your place\, please read our Terms & Conditions\, then ‘get tickets’ using the button below.
URL:https://scynergy.co.uk/event/200425-back-to-basics-well-being-weekend
LOCATION:Bryn Bolgoed\, Libanus\, Brecon\, Powys\, LD3 8EP\, United Kingdom
CATEGORIES:Wellbeing Weekends
ATTACH;FMTTYPE=image/jpeg:https://scynergy.co.uk/wp-content/uploads/2020/02/woodland-Light.jpg
ORGANIZER;CN="Christina Rayner":MAILTO:chris@backtobasics.wales
END:VEVENT
END:VCALENDAR